BEGIN:VCALENDAR
VERSION:2.0
PRODID:-//Blue Barn Ranch - ECPv6.15.11//NONSGML v1.0//EN
CALSCALE:GREGORIAN
METHOD:PUBLISH
X-ORIGINAL-URL:https://bluebarnranch.com
X-WR-CALDESC:Events for Blue Barn Ranch
REFRESH-INTERVAL;VALUE=DURATION:PT1H
X-Robots-Tag:noindex
X-PUBLISHED-TTL:PT1H
BEGIN:VTIMEZONE
TZID:America/Los_Angeles
BEGIN:DAYLIGHT
TZOFFSETFROM:-0800
TZOFFSETTO:-0700
TZNAME:PDT
DTSTART:20230312T100000
END:DAYLIGHT
BEGIN:STANDARD
TZOFFSETFROM:-0700
TZOFFSETTO:-0800
TZNAME:PST
DTSTART:20231105T090000
END:STANDARD
BEGIN:DAYLIGHT
TZOFFSETFROM:-0800
TZOFFSETTO:-0700
TZNAME:PDT
DTSTART:20240310T100000
END:DAYLIGHT
BEGIN:STANDARD
TZOFFSETFROM:-0700
TZOFFSETTO:-0800
TZNAME:PST
DTSTART:20241103T090000
END:STANDARD
BEGIN:DAYLIGHT
TZOFFSETFROM:-0800
TZOFFSETTO:-0700
TZNAME:PDT
DTSTART:20250309T100000
END:DAYLIGHT
BEGIN:STANDARD
TZOFFSETFROM:-0700
TZOFFSETTO:-0800
TZNAME:PST
DTSTART:20251102T090000
END:STANDARD
END:VTIMEZONE
BEGIN:VTIMEZONE
TZID:America/Los_Angeles
BEGIN:DAYLIGHT
TZOFFSETFROM:-0800
TZOFFSETTO:-0700
TZNAME:PDT
DTSTART:20240310T100000
END:DAYLIGHT
BEGIN:STANDARD
TZOFFSETFROM:-0700
TZOFFSETTO:-0800
TZNAME:PST
DTSTART:20241103T090000
END:STANDARD
BEGIN:DAYLIGHT
TZOFFSETFROM:-0800
TZOFFSETTO:-0700
TZNAME:PDT
DTSTART:20250309T100000
END:DAYLIGHT
BEGIN:STANDARD
TZOFFSETFROM:-0700
TZOFFSETTO:-0800
TZNAME:PST
DTSTART:20251102T090000
END:STANDARD
BEGIN:DAYLIGHT
TZOFFSETFROM:-0800
TZOFFSETTO:-0700
TZNAME:PDT
DTSTART:20260308T100000
END:DAYLIGHT
BEGIN:STANDARD
TZOFFSETFROM:-0700
TZOFFSETTO:-0800
TZNAME:PST
DTSTART:20261101T090000
END:STANDARD
END:VTIMEZONE
BEGIN:VEVENT
DTSTART;TZID=America/Los_Angeles:20241221T120000
DTEND;TZID=America/Los_Angeles:20241221T130000
DTSTAMP:20260422T020259
CREATED:20241223T225611Z
LAST-MODIFIED:20241223T230308Z
UID:25466-1734782400-1734786000@bluebarnranch.com
SUMMARY:AKC Fit Dog Walk
DESCRIPTION:
URL:https://bluebarnranch.com/event/akc-fit-dog-walk/
LOCATION:AKC Fit Dog Walk\, 3070 Yucca Mesa Rd\, Yucca Valley\, CA\, 92284\, United States
ATTACH;FMTTYPE=image/jpeg:https://bluebarnranch.com/wp-content/uploads/2024/12/452244375_1021955333050795_7072757921026571470_n-1.jpg
END:VEVENT
BEGIN:VEVENT
DTSTART;TZID=America/Los_Angeles:20250209T120000
DTEND;TZID=America/Los_Angeles:20250209T140000
DTSTAMP:20260422T020259
CREATED:20250202T171843Z
LAST-MODIFIED:20250203T063246Z
UID:25552-1739102400-1739109600@bluebarnranch.com
SUMMARY:Canine Good Citizen
DESCRIPTION:12:00pm AKC Canine Good Citizen Skills Class (fundraiser J.T. No Kill Shelter) \n1:00pm  AKC Canine Good Citizen Test
URL:https://bluebarnranch.com/event/canine-good-citizen-skills-class/
LOCATION:Blue Barn Ranch\, 3070 Yucca Mesa Rd\, Yucca Valley\, CA\, 92284\, United States
END:VEVENT
BEGIN:VEVENT
DTSTART;TZID=America/Los_Angeles:20241221T120000
DTEND;TZID=America/Los_Angeles:20241221T130000
DTSTAMP:20260422T020259
CREATED:20241223T225611Z
LAST-MODIFIED:20241223T230308Z
UID:25466-1734782400-1734786000@bluebarnranch.com
SUMMARY:AKC Fit Dog Walk
DESCRIPTION:
URL:https://bluebarnranch.com/event/akc-fit-dog-walk/
LOCATION:AKC Fit Dog Walk\, 3070 Yucca Mesa Rd\, Yucca Valley\, CA\, 92284\, United States
ATTACH;FMTTYPE=image/jpeg:https://bluebarnranch.com/wp-content/uploads/2024/12/452244375_1021955333050795_7072757921026571470_n-1.jpg
END:VEVENT
BEGIN:VEVENT
DTSTART;TZID=America/Los_Angeles:20250309T080000
DTEND;TZID=America/Los_Angeles:20250309T170000
DTSTAMP:20260422T020259
CREATED:20250205T221458Z
LAST-MODIFIED:20250205T221911Z
UID:25578-1741507200-1741539600@bluebarnranch.com
SUMMARY:Rattle Snake Aversion Training
DESCRIPTION:Before You Arrive: Register for an Appointment. All dogs must be 6 months of age or older to participate. Contact Kathi @Blue Barn Ranch to reserve your training. \nDue At Registration: Proof of rabies\, combination shot and bordetella. \nAccepted Payment Methods: Cash or PayPal. \nBe Advised: We are unable to offer refunds or credits for this training ! Is by appointment only ! 
URL:https://bluebarnranch.com/event/rattle-snake-aversion-training/
LOCATION:CA
ATTACH;FMTTYPE=image/png:https://bluebarnranch.com/wp-content/uploads/2025/02/RattlesnakePosterImage.png
ORGANIZER;CN="Kathi":MAILTO:Kathi@bluebarnranch.com
END:VEVENT
BEGIN:VEVENT
DTSTART;TZID=America/Los_Angeles:20241221T120000
DTEND;TZID=America/Los_Angeles:20241221T130000
DTSTAMP:20260422T020259
CREATED:20241223T225611Z
LAST-MODIFIED:20241223T230308Z
UID:25466-1734782400-1734786000@bluebarnranch.com
SUMMARY:AKC Fit Dog Walk
DESCRIPTION:
URL:https://bluebarnranch.com/event/akc-fit-dog-walk/
LOCATION:AKC Fit Dog Walk\, 3070 Yucca Mesa Rd\, Yucca Valley\, CA\, 92284\, United States
ATTACH;FMTTYPE=image/jpeg:https://bluebarnranch.com/wp-content/uploads/2024/12/452244375_1021955333050795_7072757921026571470_n-1.jpg
END:VEVENT
BEGIN:VEVENT
DTSTART;TZID=America/Los_Angeles:20250316T104500
DTEND;TZID=America/Los_Angeles:20250413T114500
DTSTAMP:20260422T020259
CREATED:20250311T162022Z
LAST-MODIFIED:20250311T162557Z
UID:25601-1742121900-1744544700@bluebarnranch.com
SUMMARY:Group Basic Obedience Class
DESCRIPTION:Group basic obedience is a series of five one hour classes. They begin in the Training Yard\, progress around the Ranch and then onto the Equestrian Path (approximately 1 mile) for the fifth session. We work on sit\, down\, heel\, stay\, recall and focus exercises.\nClass size will be limited. A maximum of two adult handlers per dog please.\nVaccination status showing current on rabies\, combination shot and Bordetella must be presented at the first session via phone or hard copy. Group is for dogs that are comfortable around people and other dogs. No excessive fear\, no aggression and no leash reactivity.\nWe meet in the Training Yard\, please do not arrive more than 10 minutes early as it impacts private sessions. Dogs are always on leash. Please do not allow dogs to greet other dogs on leash or to jump on people.\nA five to six foot walking leash is recommended\, as is a treat pouch with small\, soft high value treats. Blue Barn Ranch does not limit tools. We will discuss training collars and have demonstrations at the first session.\nGroup classes are outside\, please dress accordingly. The cost is $175.00 per dog for the series. That is due at the first session\, we take cash\, checks and PayPal only. Group classes are not transferrable\, please make sure that you can attend all five sessions as they are progressive.\nYou must call or text to register: 760.965.6019
URL:https://bluebarnranch.com/event/group-basic-obedience-class/
LOCATION:CA
ATTACH;FMTTYPE=image/jpeg:https://bluebarnranch.com/wp-content/uploads/2025/03/Basic-o.jpg
ORGANIZER;CN="Kathi":MAILTO:Kathi@bluebarnranch.com
END:VEVENT
BEGIN:VEVENT
DTSTART;TZID=America/Los_Angeles:20250316T104500
DTEND;TZID=America/Los_Angeles:20250413T114500
DTSTAMP:20260422T020259
CREATED:20250311T162022Z
LAST-MODIFIED:20250311T162557Z
UID:25601-1742121900-1744544700@bluebarnranch.com
SUMMARY:Group Basic Obedience Class
DESCRIPTION:Group basic obedience is a series of five one hour classes. They begin in the Training Yard\, progress around the Ranch and then onto the Equestrian Path (approximately 1 mile) for the fifth session. We work on sit\, down\, heel\, stay\, recall and focus exercises.\nClass size will be limited. A maximum of two adult handlers per dog please.\nVaccination status showing current on rabies\, combination shot and Bordetella must be presented at the first session via phone or hard copy. Group is for dogs that are comfortable around people and other dogs. No excessive fear\, no aggression and no leash reactivity.\nWe meet in the Training Yard\, please do not arrive more than 10 minutes early as it impacts private sessions. Dogs are always on leash. Please do not allow dogs to greet other dogs on leash or to jump on people.\nA five to six foot walking leash is recommended\, as is a treat pouch with small\, soft high value treats. Blue Barn Ranch does not limit tools. We will discuss training collars and have demonstrations at the first session.\nGroup classes are outside\, please dress accordingly. The cost is $175.00 per dog for the series. That is due at the first session\, we take cash\, checks and PayPal only. Group classes are not transferrable\, please make sure that you can attend all five sessions as they are progressive.\nYou must call or text to register: 760.965.6019
URL:https://bluebarnranch.com/event/group-basic-obedience-class/
LOCATION:CA
ATTACH;FMTTYPE=image/jpeg:https://bluebarnranch.com/wp-content/uploads/2025/03/Basic-o.jpg
ORGANIZER;CN="Kathi":MAILTO:Kathi@bluebarnranch.com
END:VEVENT
BEGIN:VEVENT
DTSTART;TZID=America/Los_Angeles:20250316T104500
DTEND;TZID=America/Los_Angeles:20250413T114500
DTSTAMP:20260422T020259
CREATED:20250311T162022Z
LAST-MODIFIED:20250311T162557Z
UID:25601-1742121900-1744544700@bluebarnranch.com
SUMMARY:Group Basic Obedience Class
DESCRIPTION:Group basic obedience is a series of five one hour classes. They begin in the Training Yard\, progress around the Ranch and then onto the Equestrian Path (approximately 1 mile) for the fifth session. We work on sit\, down\, heel\, stay\, recall and focus exercises.\nClass size will be limited. A maximum of two adult handlers per dog please.\nVaccination status showing current on rabies\, combination shot and Bordetella must be presented at the first session via phone or hard copy. Group is for dogs that are comfortable around people and other dogs. No excessive fear\, no aggression and no leash reactivity.\nWe meet in the Training Yard\, please do not arrive more than 10 minutes early as it impacts private sessions. Dogs are always on leash. Please do not allow dogs to greet other dogs on leash or to jump on people.\nA five to six foot walking leash is recommended\, as is a treat pouch with small\, soft high value treats. Blue Barn Ranch does not limit tools. We will discuss training collars and have demonstrations at the first session.\nGroup classes are outside\, please dress accordingly. The cost is $175.00 per dog for the series. That is due at the first session\, we take cash\, checks and PayPal only. Group classes are not transferrable\, please make sure that you can attend all five sessions as they are progressive.\nYou must call or text to register: 760.965.6019
URL:https://bluebarnranch.com/event/group-basic-obedience-class/
LOCATION:CA
ATTACH;FMTTYPE=image/jpeg:https://bluebarnranch.com/wp-content/uploads/2025/03/Basic-o.jpg
ORGANIZER;CN="Kathi":MAILTO:Kathi@bluebarnranch.com
END:VEVENT
BEGIN:VEVENT
DTSTART;TZID=America/Los_Angeles:20250316T104500
DTEND;TZID=America/Los_Angeles:20250413T114500
DTSTAMP:20260422T020259
CREATED:20250311T162022Z
LAST-MODIFIED:20250311T162557Z
UID:25601-1742121900-1744544700@bluebarnranch.com
SUMMARY:Group Basic Obedience Class
DESCRIPTION:Group basic obedience is a series of five one hour classes. They begin in the Training Yard\, progress around the Ranch and then onto the Equestrian Path (approximately 1 mile) for the fifth session. We work on sit\, down\, heel\, stay\, recall and focus exercises.\nClass size will be limited. A maximum of two adult handlers per dog please.\nVaccination status showing current on rabies\, combination shot and Bordetella must be presented at the first session via phone or hard copy. Group is for dogs that are comfortable around people and other dogs. No excessive fear\, no aggression and no leash reactivity.\nWe meet in the Training Yard\, please do not arrive more than 10 minutes early as it impacts private sessions. Dogs are always on leash. Please do not allow dogs to greet other dogs on leash or to jump on people.\nA five to six foot walking leash is recommended\, as is a treat pouch with small\, soft high value treats. Blue Barn Ranch does not limit tools. We will discuss training collars and have demonstrations at the first session.\nGroup classes are outside\, please dress accordingly. The cost is $175.00 per dog for the series. That is due at the first session\, we take cash\, checks and PayPal only. Group classes are not transferrable\, please make sure that you can attend all five sessions as they are progressive.\nYou must call or text to register: 760.965.6019
URL:https://bluebarnranch.com/event/group-basic-obedience-class/
LOCATION:CA
ATTACH;FMTTYPE=image/jpeg:https://bluebarnranch.com/wp-content/uploads/2025/03/Basic-o.jpg
ORGANIZER;CN="Kathi":MAILTO:Kathi@bluebarnranch.com
END:VEVENT
BEGIN:VEVENT
DTSTART;TZID=America/Los_Angeles:20250316T104500
DTEND;TZID=America/Los_Angeles:20250413T114500
DTSTAMP:20260422T020259
CREATED:20250311T162022Z
LAST-MODIFIED:20250311T162557Z
UID:25601-1742121900-1744544700@bluebarnranch.com
SUMMARY:Group Basic Obedience Class
DESCRIPTION:Group basic obedience is a series of five one hour classes. They begin in the Training Yard\, progress around the Ranch and then onto the Equestrian Path (approximately 1 mile) for the fifth session. We work on sit\, down\, heel\, stay\, recall and focus exercises.\nClass size will be limited. A maximum of two adult handlers per dog please.\nVaccination status showing current on rabies\, combination shot and Bordetella must be presented at the first session via phone or hard copy. Group is for dogs that are comfortable around people and other dogs. No excessive fear\, no aggression and no leash reactivity.\nWe meet in the Training Yard\, please do not arrive more than 10 minutes early as it impacts private sessions. Dogs are always on leash. Please do not allow dogs to greet other dogs on leash or to jump on people.\nA five to six foot walking leash is recommended\, as is a treat pouch with small\, soft high value treats. Blue Barn Ranch does not limit tools. We will discuss training collars and have demonstrations at the first session.\nGroup classes are outside\, please dress accordingly. The cost is $175.00 per dog for the series. That is due at the first session\, we take cash\, checks and PayPal only. Group classes are not transferrable\, please make sure that you can attend all five sessions as they are progressive.\nYou must call or text to register: 760.965.6019
URL:https://bluebarnranch.com/event/group-basic-obedience-class/
LOCATION:CA
ATTACH;FMTTYPE=image/jpeg:https://bluebarnranch.com/wp-content/uploads/2025/03/Basic-o.jpg
ORGANIZER;CN="Kathi":MAILTO:Kathi@bluebarnranch.com
END:VEVENT
BEGIN:VEVENT
DTSTART;TZID=America/Los_Angeles:20241221T120000
DTEND;TZID=America/Los_Angeles:20241221T130000
DTSTAMP:20260422T020259
CREATED:20241223T225611Z
LAST-MODIFIED:20241223T230308Z
UID:25466-1734782400-1734786000@bluebarnranch.com
SUMMARY:AKC Fit Dog Walk
DESCRIPTION:
URL:https://bluebarnranch.com/event/akc-fit-dog-walk/
LOCATION:AKC Fit Dog Walk\, 3070 Yucca Mesa Rd\, Yucca Valley\, CA\, 92284\, United States
ATTACH;FMTTYPE=image/jpeg:https://bluebarnranch.com/wp-content/uploads/2024/12/452244375_1021955333050795_7072757921026571470_n-1.jpg
END:VEVENT
BEGIN:VEVENT
DTSTART;TZID=America/Los_Angeles:20241221T120000
DTEND;TZID=America/Los_Angeles:20241221T130000
DTSTAMP:20260422T020259
CREATED:20241223T225611Z
LAST-MODIFIED:20241223T230308Z
UID:25466-1734782400-1734786000@bluebarnranch.com
SUMMARY:AKC Fit Dog Walk
DESCRIPTION:
URL:https://bluebarnranch.com/event/akc-fit-dog-walk/
LOCATION:AKC Fit Dog Walk\, 3070 Yucca Mesa Rd\, Yucca Valley\, CA\, 92284\, United States
ATTACH;FMTTYPE=image/jpeg:https://bluebarnranch.com/wp-content/uploads/2024/12/452244375_1021955333050795_7072757921026571470_n-1.jpg
END:VEVENT
BEGIN:VEVENT
DTSTART;TZID=America/Los_Angeles:20241221T120000
DTEND;TZID=America/Los_Angeles:20241221T130000
DTSTAMP:20260422T020259
CREATED:20241223T225611Z
LAST-MODIFIED:20241223T230308Z
UID:25466-1734782400-1734786000@bluebarnranch.com
SUMMARY:AKC Fit Dog Walk
DESCRIPTION:
URL:https://bluebarnranch.com/event/akc-fit-dog-walk/
LOCATION:AKC Fit Dog Walk\, 3070 Yucca Mesa Rd\, Yucca Valley\, CA\, 92284\, United States
ATTACH;FMTTYPE=image/jpeg:https://bluebarnranch.com/wp-content/uploads/2024/12/452244375_1021955333050795_7072757921026571470_n-1.jpg
END:VEVENT
BEGIN:VEVENT
DTSTART;TZID=America/Los_Angeles:20241221T120000
DTEND;TZID=America/Los_Angeles:20241221T130000
DTSTAMP:20260422T020259
CREATED:20241223T225611Z
LAST-MODIFIED:20241223T230308Z
UID:25466-1734782400-1734786000@bluebarnranch.com
SUMMARY:AKC Fit Dog Walk
DESCRIPTION:
URL:https://bluebarnranch.com/event/akc-fit-dog-walk/
LOCATION:AKC Fit Dog Walk\, 3070 Yucca Mesa Rd\, Yucca Valley\, CA\, 92284\, United States
ATTACH;FMTTYPE=image/jpeg:https://bluebarnranch.com/wp-content/uploads/2024/12/452244375_1021955333050795_7072757921026571470_n-1.jpg
END:VEVENT
BEGIN:VEVENT
DTSTART;TZID=America/Los_Angeles:20241221T120000
DTEND;TZID=America/Los_Angeles:20241221T130000
DTSTAMP:20260422T020259
CREATED:20241223T225611Z
LAST-MODIFIED:20241223T230308Z
UID:25466-1734782400-1734786000@bluebarnranch.com
SUMMARY:AKC Fit Dog Walk
DESCRIPTION:
URL:https://bluebarnranch.com/event/akc-fit-dog-walk/
LOCATION:AKC Fit Dog Walk\, 3070 Yucca Mesa Rd\, Yucca Valley\, CA\, 92284\, United States
ATTACH;FMTTYPE=image/jpeg:https://bluebarnranch.com/wp-content/uploads/2024/12/452244375_1021955333050795_7072757921026571470_n-1.jpg
END:VEVENT
BEGIN:VEVENT
DTSTART;TZID=America/Los_Angeles:20241221T120000
DTEND;TZID=America/Los_Angeles:20241221T130000
DTSTAMP:20260422T020259
CREATED:20241223T225611Z
LAST-MODIFIED:20241223T230308Z
UID:25466-1734782400-1734786000@bluebarnranch.com
SUMMARY:AKC Fit Dog Walk
DESCRIPTION:
URL:https://bluebarnranch.com/event/akc-fit-dog-walk/
LOCATION:AKC Fit Dog Walk\, 3070 Yucca Mesa Rd\, Yucca Valley\, CA\, 92284\, United States
ATTACH;FMTTYPE=image/jpeg:https://bluebarnranch.com/wp-content/uploads/2024/12/452244375_1021955333050795_7072757921026571470_n-1.jpg
END:VEVENT
BEGIN:VEVENT
DTSTART;TZID=America/Los_Angeles:20241221T120000
DTEND;TZID=America/Los_Angeles:20241221T130000
DTSTAMP:20260422T020259
CREATED:20241223T225611Z
LAST-MODIFIED:20241223T230308Z
UID:25466-1734782400-1734786000@bluebarnranch.com
SUMMARY:AKC Fit Dog Walk
DESCRIPTION:
URL:https://bluebarnranch.com/event/akc-fit-dog-walk/
LOCATION:AKC Fit Dog Walk\, 3070 Yucca Mesa Rd\, Yucca Valley\, CA\, 92284\, United States
ATTACH;FMTTYPE=image/jpeg:https://bluebarnranch.com/wp-content/uploads/2024/12/452244375_1021955333050795_7072757921026571470_n-1.jpg
END:VEVENT
BEGIN:VEVENT
DTSTART;TZID=America/Los_Angeles:20241221T120000
DTEND;TZID=America/Los_Angeles:20241221T130000
DTSTAMP:20260422T020259
CREATED:20241223T225611Z
LAST-MODIFIED:20241223T230308Z
UID:25466-1734782400-1734786000@bluebarnranch.com
SUMMARY:AKC Fit Dog Walk
DESCRIPTION:
URL:https://bluebarnranch.com/event/akc-fit-dog-walk/
LOCATION:AKC Fit Dog Walk\, 3070 Yucca Mesa Rd\, Yucca Valley\, CA\, 92284\, United States
ATTACH;FMTTYPE=image/jpeg:https://bluebarnranch.com/wp-content/uploads/2024/12/452244375_1021955333050795_7072757921026571470_n-1.jpg
END:VEVENT
BEGIN:VEVENT
DTSTART;TZID=America/Los_Angeles:20241221T120000
DTEND;TZID=America/Los_Angeles:20241221T130000
DTSTAMP:20260422T020259
CREATED:20241223T225611Z
LAST-MODIFIED:20241223T230308Z
UID:25466-1734782400-1734786000@bluebarnranch.com
SUMMARY:AKC Fit Dog Walk
DESCRIPTION:
URL:https://bluebarnranch.com/event/akc-fit-dog-walk/
LOCATION:AKC Fit Dog Walk\, 3070 Yucca Mesa Rd\, Yucca Valley\, CA\, 92284\, United States
ATTACH;FMTTYPE=image/jpeg:https://bluebarnranch.com/wp-content/uploads/2024/12/452244375_1021955333050795_7072757921026571470_n-1.jpg
END:VEVENT
BEGIN:VEVENT
DTSTART;TZID=America/Los_Angeles:20241221T120000
DTEND;TZID=America/Los_Angeles:20241221T130000
DTSTAMP:20260422T020259
CREATED:20241223T225611Z
LAST-MODIFIED:20241223T230308Z
UID:25466-1734782400-1734786000@bluebarnranch.com
SUMMARY:AKC Fit Dog Walk
DESCRIPTION:
URL:https://bluebarnranch.com/event/akc-fit-dog-walk/
LOCATION:AKC Fit Dog Walk\, 3070 Yucca Mesa Rd\, Yucca Valley\, CA\, 92284\, United States
ATTACH;FMTTYPE=image/jpeg:https://bluebarnranch.com/wp-content/uploads/2024/12/452244375_1021955333050795_7072757921026571470_n-1.jpg
END:VEVENT
BEGIN:VEVENT
DTSTART;TZID=America/Los_Angeles:20241221T120000
DTEND;TZID=America/Los_Angeles:20241221T130000
DTSTAMP:20260422T020259
CREATED:20241223T225611Z
LAST-MODIFIED:20241223T230308Z
UID:25466-1734782400-1734786000@bluebarnranch.com
SUMMARY:AKC Fit Dog Walk
DESCRIPTION:
URL:https://bluebarnranch.com/event/akc-fit-dog-walk/
LOCATION:AKC Fit Dog Walk\, 3070 Yucca Mesa Rd\, Yucca Valley\, CA\, 92284\, United States
ATTACH;FMTTYPE=image/jpeg:https://bluebarnranch.com/wp-content/uploads/2024/12/452244375_1021955333050795_7072757921026571470_n-1.jpg
END:VEVENT
BEGIN:VEVENT
DTSTART;TZID=America/Los_Angeles:20241221T120000
DTEND;TZID=America/Los_Angeles:20241221T130000
DTSTAMP:20260422T020259
CREATED:20241223T225611Z
LAST-MODIFIED:20241223T230308Z
UID:25466-1734782400-1734786000@bluebarnranch.com
SUMMARY:AKC Fit Dog Walk
DESCRIPTION:
URL:https://bluebarnranch.com/event/akc-fit-dog-walk/
LOCATION:AKC Fit Dog Walk\, 3070 Yucca Mesa Rd\, Yucca Valley\, CA\, 92284\, United States
ATTACH;FMTTYPE=image/jpeg:https://bluebarnranch.com/wp-content/uploads/2024/12/452244375_1021955333050795_7072757921026571470_n-1.jpg
END:VEVENT
BEGIN:VEVENT
DTSTART;TZID=America/Los_Angeles:20241221T120000
DTEND;TZID=America/Los_Angeles:20241221T130000
DTSTAMP:20260422T020259
CREATED:20241223T225611Z
LAST-MODIFIED:20241223T230308Z
UID:25466-1734782400-1734786000@bluebarnranch.com
SUMMARY:AKC Fit Dog Walk
DESCRIPTION:
URL:https://bluebarnranch.com/event/akc-fit-dog-walk/
LOCATION:AKC Fit Dog Walk\, 3070 Yucca Mesa Rd\, Yucca Valley\, CA\, 92284\, United States
ATTACH;FMTTYPE=image/jpeg:https://bluebarnranch.com/wp-content/uploads/2024/12/452244375_1021955333050795_7072757921026571470_n-1.jpg
END:VEVENT
BEGIN:VEVENT
DTSTART;TZID=America/Los_Angeles:20241221T120000
DTEND;TZID=America/Los_Angeles:20241221T130000
DTSTAMP:20260422T020259
CREATED:20241223T225611Z
LAST-MODIFIED:20241223T230308Z
UID:25466-1734782400-1734786000@bluebarnranch.com
SUMMARY:AKC Fit Dog Walk
DESCRIPTION:
URL:https://bluebarnranch.com/event/akc-fit-dog-walk/
LOCATION:AKC Fit Dog Walk\, 3070 Yucca Mesa Rd\, Yucca Valley\, CA\, 92284\, United States
ATTACH;FMTTYPE=image/jpeg:https://bluebarnranch.com/wp-content/uploads/2024/12/452244375_1021955333050795_7072757921026571470_n-1.jpg
END:VEVENT
BEGIN:VEVENT
DTSTART;TZID=America/Los_Angeles:20241221T120000
DTEND;TZID=America/Los_Angeles:20241221T130000
DTSTAMP:20260422T020259
CREATED:20241223T225611Z
LAST-MODIFIED:20241223T230308Z
UID:25466-1734782400-1734786000@bluebarnranch.com
SUMMARY:AKC Fit Dog Walk
DESCRIPTION:
URL:https://bluebarnranch.com/event/akc-fit-dog-walk/
LOCATION:AKC Fit Dog Walk\, 3070 Yucca Mesa Rd\, Yucca Valley\, CA\, 92284\, United States
ATTACH;FMTTYPE=image/jpeg:https://bluebarnranch.com/wp-content/uploads/2024/12/452244375_1021955333050795_7072757921026571470_n-1.jpg
END:VEVENT
BEGIN:VEVENT
DTSTART;TZID=America/Los_Angeles:20241221T120000
DTEND;TZID=America/Los_Angeles:20241221T130000
DTSTAMP:20260422T020259
CREATED:20241223T225611Z
LAST-MODIFIED:20241223T230308Z
UID:25466-1734782400-1734786000@bluebarnranch.com
SUMMARY:AKC Fit Dog Walk
DESCRIPTION:
URL:https://bluebarnranch.com/event/akc-fit-dog-walk/
LOCATION:AKC Fit Dog Walk\, 3070 Yucca Mesa Rd\, Yucca Valley\, CA\, 92284\, United States
ATTACH;FMTTYPE=image/jpeg:https://bluebarnranch.com/wp-content/uploads/2024/12/452244375_1021955333050795_7072757921026571470_n-1.jpg
END:VEVENT
BEGIN:VEVENT
DTSTART;TZID=America/Los_Angeles:20241221T120000
DTEND;TZID=America/Los_Angeles:20241221T130000
DTSTAMP:20260422T020259
CREATED:20241223T225611Z
LAST-MODIFIED:20241223T230308Z
UID:25466-1734782400-1734786000@bluebarnranch.com
SUMMARY:AKC Fit Dog Walk
DESCRIPTION:
URL:https://bluebarnranch.com/event/akc-fit-dog-walk/
LOCATION:AKC Fit Dog Walk\, 3070 Yucca Mesa Rd\, Yucca Valley\, CA\, 92284\, United States
ATTACH;FMTTYPE=image/jpeg:https://bluebarnranch.com/wp-content/uploads/2024/12/452244375_1021955333050795_7072757921026571470_n-1.jpg
END:VEVENT
BEGIN:VEVENT
DTSTART;TZID=America/Los_Angeles:20241221T120000
DTEND;TZID=America/Los_Angeles:20241221T130000
DTSTAMP:20260422T020259
CREATED:20241223T225611Z
LAST-MODIFIED:20241223T230308Z
UID:25466-1734782400-1734786000@bluebarnranch.com
SUMMARY:AKC Fit Dog Walk
DESCRIPTION:
URL:https://bluebarnranch.com/event/akc-fit-dog-walk/
LOCATION:AKC Fit Dog Walk\, 3070 Yucca Mesa Rd\, Yucca Valley\, CA\, 92284\, United States
ATTACH;FMTTYPE=image/jpeg:https://bluebarnranch.com/wp-content/uploads/2024/12/452244375_1021955333050795_7072757921026571470_n-1.jpg
END:VEVENT
BEGIN:VEVENT
DTSTART;TZID=America/Los_Angeles:20241221T120000
DTEND;TZID=America/Los_Angeles:20241221T130000
DTSTAMP:20260422T020259
CREATED:20241223T225611Z
LAST-MODIFIED:20241223T230308Z
UID:25466-1734782400-1734786000@bluebarnranch.com
SUMMARY:AKC Fit Dog Walk
DESCRIPTION:
URL:https://bluebarnranch.com/event/akc-fit-dog-walk/
LOCATION:AKC Fit Dog Walk\, 3070 Yucca Mesa Rd\, Yucca Valley\, CA\, 92284\, United States
ATTACH;FMTTYPE=image/jpeg:https://bluebarnranch.com/wp-content/uploads/2024/12/452244375_1021955333050795_7072757921026571470_n-1.jpg
END:VEVENT
BEGIN:VEVENT
DTSTART;TZID=America/Los_Angeles:20241221T120000
DTEND;TZID=America/Los_Angeles:20241221T130000
DTSTAMP:20260422T020259
CREATED:20241223T225611Z
LAST-MODIFIED:20241223T230308Z
UID:25466-1734782400-1734786000@bluebarnranch.com
SUMMARY:AKC Fit Dog Walk
DESCRIPTION:
URL:https://bluebarnranch.com/event/akc-fit-dog-walk/
LOCATION:AKC Fit Dog Walk\, 3070 Yucca Mesa Rd\, Yucca Valley\, CA\, 92284\, United States
ATTACH;FMTTYPE=image/jpeg:https://bluebarnranch.com/wp-content/uploads/2024/12/452244375_1021955333050795_7072757921026571470_n-1.jpg
END:VEVENT
END:VCALENDAR